BEGIN:VCALENDAR
VERSION:2.0
PRODID:-//Pôle de soins Sirey - ECPv6.15.20//NONSGML v1.0//EN
CALSCALE:GREGORIAN
METHOD:PUBLISH
X-WR-CALNAME:Pôle de soins Sirey
X-ORIGINAL-URL:https://pole-de-soins-sirey.fr
X-WR-CALDESC:Évènements pour Pôle de soins Sirey
REFRESH-INTERVAL;VALUE=DURATION:PT1H
X-Robots-Tag:noindex
X-PUBLISHED-TTL:PT1H
BEGIN:VTIMEZONE
TZID:Europe/Paris
BEGIN:DAYLIGHT
TZOFFSETFROM:+0100
TZOFFSETTO:+0200
TZNAME:CEST
DTSTART:20250330T010000
END:DAYLIGHT
BEGIN:STANDARD
TZOFFSETFROM:+0200
TZOFFSETTO:+0100
TZNAME:CET
DTSTART:20251026T010000
END:STANDARD
BEGIN:DAYLIGHT
TZOFFSETFROM:+0100
TZOFFSETTO:+0200
TZNAME:CEST
DTSTART:20260329T010000
END:DAYLIGHT
BEGIN:STANDARD
TZOFFSETFROM:+0200
TZOFFSETTO:+0100
TZNAME:CET
DTSTART:20261025T010000
END:STANDARD
BEGIN:DAYLIGHT
TZOFFSETFROM:+0100
TZOFFSETTO:+0200
TZNAME:CEST
DTSTART:20270328T010000
END:DAYLIGHT
BEGIN:STANDARD
TZOFFSETFROM:+0200
TZOFFSETTO:+0100
TZNAME:CET
DTSTART:20271031T010000
END:STANDARD
END:VTIMEZONE
BEGIN:VEVENT
DTSTART;TZID=Europe/Paris:20260430T180000
DTEND;TZID=Europe/Paris:20260430T210000
DTSTAMP:20260424T105237
CREATED:20260415T101408Z
LAST-MODIFIED:20260415T112342Z
UID:2343-1777572000-1777582800@pole-de-soins-sirey.fr
SUMMARY:Réunions de réseau des psychologues
DESCRIPTION:
URL:https://pole-de-soins-sirey.fr/index.php/event/reunions-de-reseau-psychologues/
LOCATION:Pôle de soins\, 5 rue Sirey\, Périgueux
CATEGORIES:Réunions
ATTACH;FMTTYPE=image/jpeg:https://pole-de-soins-sirey.fr/wp-content/uploads/2026/04/image-reunion-2.jpg
END:VEVENT
BEGIN:VEVENT
DTSTART;TZID=Europe/Paris:20260507T180000
DTEND;TZID=Europe/Paris:20260507T200000
DTSTAMP:20260424T105237
CREATED:20260415T104308Z
LAST-MODIFIED:20260415T112225Z
UID:2361-1778176800-1778184000@pole-de-soins-sirey.fr
SUMMARY:Réunion des membres du cabinet
DESCRIPTION:
URL:https://pole-de-soins-sirey.fr/index.php/event/reunion-des-membres-du-cabinet/
CATEGORIES:Réunions
ATTACH;FMTTYPE=image/webp:https://pole-de-soins-sirey.fr/wp-content/uploads/2026/04/image-reunion.webp
END:VEVENT
BEGIN:VEVENT
DTSTART;TZID=Europe/Paris:20260529T180000
DTEND;TZID=Europe/Paris:20260529T200000
DTSTAMP:20260424T105237
CREATED:20260415T110354Z
LAST-MODIFIED:20260415T112421Z
UID:2375-1780077600-1780084800@pole-de-soins-sirey.fr
SUMMARY:Réunion des membres du cabinet
DESCRIPTION:
URL:https://pole-de-soins-sirey.fr/index.php/event/reunion-des-membres-du-cabinet-2/
CATEGORIES:Réunions
ATTACH;FMTTYPE=image/webp:https://pole-de-soins-sirey.fr/wp-content/uploads/2026/04/image-reunion.webp
END:VEVENT
BEGIN:VEVENT
DTSTART;TZID=Europe/Paris:20260611T180000
DTEND;TZID=Europe/Paris:20260611T210000
DTSTAMP:20260424T105237
CREATED:20260415T110725Z
LAST-MODIFIED:20260415T113505Z
UID:2377-1781200800-1781211600@pole-de-soins-sirey.fr
SUMMARY:Réunion de réseau psychologues
DESCRIPTION:
URL:https://pole-de-soins-sirey.fr/index.php/event/reunion-de-reseau-psychologues/
LOCATION:Pôle de soins\, 5 rue Sirey\, Périgueux
CATEGORIES:Réunions
ATTACH;FMTTYPE=image/jpeg:https://pole-de-soins-sirey.fr/wp-content/uploads/2026/04/image-reunion-2.jpg
END:VEVENT
BEGIN:VEVENT
DTSTART;TZID=Europe/Paris:20260625T180000
DTEND;TZID=Europe/Paris:20260625T200000
DTSTAMP:20260424T105237
CREATED:20260415T112918Z
LAST-MODIFIED:20260415T112918Z
UID:2389-1782410400-1782417600@pole-de-soins-sirey.fr
SUMMARY:Réunion des membres du cabinet
DESCRIPTION:
URL:https://pole-de-soins-sirey.fr/index.php/event/reunion-des-membres-du-cabinet-3/
CATEGORIES:Réunions
ATTACH;FMTTYPE=image/webp:https://pole-de-soins-sirey.fr/wp-content/uploads/2026/04/image-reunion.webp
END:VEVENT
BEGIN:VEVENT
DTSTART;TZID=Europe/Paris:20260710T180000
DTEND;TZID=Europe/Paris:20260710T210000
DTSTAMP:20260424T105237
CREATED:20260415T111407Z
LAST-MODIFIED:20260415T113526Z
UID:2382-1783706400-1783717200@pole-de-soins-sirey.fr
SUMMARY:Réunion de réseau psychologues
DESCRIPTION:
URL:https://pole-de-soins-sirey.fr/index.php/event/reunion-de-reseau-psychologues-2/
LOCATION:Pôle de soins\, 5 rue Sirey\, Périgueux
CATEGORIES:Réunions
ATTACH;FMTTYPE=image/jpeg:https://pole-de-soins-sirey.fr/wp-content/uploads/2026/04/image-reunion-2.jpg
END:VEVENT
BEGIN:VEVENT
DTSTART;TZID=Europe/Paris:20260910T180000
DTEND;TZID=Europe/Paris:20260910T200000
DTSTAMP:20260424T105237
CREATED:20260415T113234Z
LAST-MODIFIED:20260415T113234Z
UID:2392-1789063200-1789070400@pole-de-soins-sirey.fr
SUMMARY:Réunion des membres du cabinet
DESCRIPTION:
URL:https://pole-de-soins-sirey.fr/index.php/event/reunion-des-membres-du-cabinet-4/
CATEGORIES:Réunions
ATTACH;FMTTYPE=image/webp:https://pole-de-soins-sirey.fr/wp-content/uploads/2026/04/image-reunion.webp
END:VEVENT
BEGIN:VEVENT
DTSTART;TZID=Europe/Paris:20260917T180000
DTEND;TZID=Europe/Paris:20260917T210000
DTSTAMP:20260424T105237
CREATED:20260415T113432Z
LAST-MODIFIED:20260415T113432Z
UID:2394-1789668000-1789678800@pole-de-soins-sirey.fr
SUMMARY:Réunion de réseau psychologues
DESCRIPTION:
URL:https://pole-de-soins-sirey.fr/index.php/event/reunion-de-reseau-psychologues-3/
LOCATION:Pôle de soins\, 5 rue Sirey\, Périgueux
CATEGORIES:Réunions
ATTACH;FMTTYPE=image/jpeg:https://pole-de-soins-sirey.fr/wp-content/uploads/2026/04/image-reunion-2.jpg
END:VEVENT
BEGIN:VEVENT
DTSTART;TZID=Europe/Paris:20261015T180000
DTEND;TZID=Europe/Paris:20261015T200000
DTSTAMP:20260424T105237
CREATED:20260415T114217Z
LAST-MODIFIED:20260415T114524Z
UID:2398-1792087200-1792094400@pole-de-soins-sirey.fr
SUMMARY:Réunion des membres du cabinet
DESCRIPTION:
URL:https://pole-de-soins-sirey.fr/index.php/event/reunion-des-membres-du-cabinet-5/
LOCATION:Pôle de soins\, 5 rue Sirey\, Périgueux
CATEGORIES:Réunions
ATTACH;FMTTYPE=image/webp:https://pole-de-soins-sirey.fr/wp-content/uploads/2026/04/image-reunion.webp
END:VEVENT
BEGIN:VEVENT
DTSTART;TZID=Europe/Paris:20261105T180000
DTEND;TZID=Europe/Paris:20261105T210000
DTSTAMP:20260424T105237
CREATED:20260415T113737Z
LAST-MODIFIED:20260415T113737Z
UID:2396-1793901600-1793912400@pole-de-soins-sirey.fr
SUMMARY:Réunion de réseau psychologues
DESCRIPTION:
URL:https://pole-de-soins-sirey.fr/index.php/event/reunion-de-reseau-psychologues-4/
LOCATION:Pôle de soins\, 5 rue Sirey\, Périgueux
CATEGORIES:Réunions
ATTACH;FMTTYPE=image/jpeg:https://pole-de-soins-sirey.fr/wp-content/uploads/2026/04/image-reunion-2.jpg
END:VEVENT
BEGIN:VEVENT
DTSTART;TZID=Europe/Paris:20261217T180000
DTEND;TZID=Europe/Paris:20261217T210000
DTSTAMP:20260424T105237
CREATED:20260415T114758Z
LAST-MODIFIED:20260415T114758Z
UID:2400-1797530400-1797541200@pole-de-soins-sirey.fr
SUMMARY:Réunion de réseau psychologues
DESCRIPTION:
URL:https://pole-de-soins-sirey.fr/index.php/event/reunion-de-reseau-psychologues-5/
LOCATION:Pôle de soins\, 5 rue Sirey\, Périgueux
CATEGORIES:Réunions
ATTACH;FMTTYPE=image/jpeg:https://pole-de-soins-sirey.fr/wp-content/uploads/2026/04/image-reunion-2.jpg
END:VEVENT
END:VCALENDAR